BEGIN:VCALENDAR
VERSION:2.0
PRODID:-//Visitbolmen - ECPv6.15.17.1//NONSGML v1.0//EN
CALSCALE:GREGORIAN
METHOD:PUBLISH
X-ORIGINAL-URL:https://visitbolmen.se
X-WR-CALDESC:Händelser för Visitbolmen
REFRESH-INTERVAL;VALUE=DURATION:PT1H
X-Robots-Tag:noindex
X-PUBLISHED-TTL:PT1H
BEGIN:VTIMEZONE
TZID:Europe/Stockholm
BEGIN:DAYLIGHT
TZOFFSETFROM:+0100
TZOFFSETTO:+0200
TZNAME:CEST
DTSTART:20240331T010000
END:DAYLIGHT
BEGIN:STANDARD
TZOFFSETFROM:+0200
TZOFFSETTO:+0100
TZNAME:CET
DTSTART:20241027T010000
END:STANDARD
BEGIN:DAYLIGHT
TZOFFSETFROM:+0100
TZOFFSETTO:+0200
TZNAME:CEST
DTSTART:20250330T010000
END:DAYLIGHT
BEGIN:STANDARD
TZOFFSETFROM:+0200
TZOFFSETTO:+0100
TZNAME:CET
DTSTART:20251026T010000
END:STANDARD
BEGIN:DAYLIGHT
TZOFFSETFROM:+0100
TZOFFSETTO:+0200
TZNAME:CEST
DTSTART:20260329T010000
END:DAYLIGHT
BEGIN:STANDARD
TZOFFSETFROM:+0200
TZOFFSETTO:+0100
TZNAME:CET
DTSTART:20261025T010000
END:STANDARD
END:VTIMEZONE
BEGIN:VEVENT
DTSTART;TZID=Europe/Stockholm:20250927T180000
DTEND;TZID=Europe/Stockholm:20250927T233000
DTSTAMP:20260422T123423
CREATED:20250528T172558Z
LAST-MODIFIED:20250528T172558Z
UID:581-1758996000-1759015800@visitbolmen.se
SUMMARY:Oktoberfest med Showtime - Sommaren på Båtbaren
DESCRIPTION:
URL:https://visitbolmen.se/event/oktoberfest-med-showtime-sommaren-pa-batbaren/
LOCATION:Båtbaren i Tannåker\, Tallbo 2\, Ljungby\, 34139\, Sweden
ORGANIZER;CN="B%C3%A5tbaren i Tann%C3%A5ker":MAILTO:batbarenitannaker@gmail.com
END:VEVENT
END:VCALENDAR