BEGIN:VCALENDAR
VERSION:2.0
PRODID:-//Visitbolmen - ECPv6.15.17.1//NONSGML v1.0//EN
CALSCALE:GREGORIAN
METHOD:PUBLISH
X-ORIGINAL-URL:https://visitbolmen.se
X-WR-CALDESC:Händelser för Visitbolmen
REFRESH-INTERVAL;VALUE=DURATION:PT1H
X-Robots-Tag:noindex
X-PUBLISHED-TTL:PT1H
BEGIN:VTIMEZONE
TZID:Europe/Stockholm
BEGIN:DAYLIGHT
TZOFFSETFROM:+0100
TZOFFSETTO:+0200
TZNAME:CEST
DTSTART:20240331T010000
END:DAYLIGHT
BEGIN:STANDARD
TZOFFSETFROM:+0200
TZOFFSETTO:+0100
TZNAME:CET
DTSTART:20241027T010000
END:STANDARD
BEGIN:DAYLIGHT
TZOFFSETFROM:+0100
TZOFFSETTO:+0200
TZNAME:CEST
DTSTART:20250330T010000
END:DAYLIGHT
BEGIN:STANDARD
TZOFFSETFROM:+0200
TZOFFSETTO:+0100
TZNAME:CET
DTSTART:20251026T010000
END:STANDARD
BEGIN:DAYLIGHT
TZOFFSETFROM:+0100
TZOFFSETTO:+0200
TZNAME:CEST
DTSTART:20260329T010000
END:DAYLIGHT
BEGIN:STANDARD
TZOFFSETFROM:+0200
TZOFFSETTO:+0100
TZNAME:CET
DTSTART:20261025T010000
END:STANDARD
END:VTIMEZONE
BEGIN:VEVENT
DTSTART;TZID=Europe/Stockholm:20250801T090000
DTEND;TZID=Europe/Stockholm:20250803T170000
DTSTAMP:20260422T164640
CREATED:20250217T202005Z
LAST-MODIFIED:20250217T202005Z
UID:369-1754038800-1754240400@visitbolmen.se
SUMMARY:Bolmenmarschen 2025
DESCRIPTION:Årets Ljungby-Bolmenmarschen 2025 \nVälkommen till den 43:e upplagan av Ljungby-Bolmenmarschen\, som äger rum den 1–3 augusti 2025. Under dessa tre dagar får deltagarna uppleva vacker natur\, sjöar och historiska platser runt Bolmen. \n1:a Dagsetappen:\nMarschen startar gemensamt vid Ljungby Gamla Torg kl. 07.00. Vandringen går längs den gamla järnvägsbanken\, förbi fågelsjön Nässjön och vidare mot Angelstad och Bolmens samhälle. Deltagarna fortsätter längs den tidigare järnvägen över bron vid Piksborg till Byholma. Här lämnas järnvägsleden för att ta mindre stigar och vägar mot Odensjö\, där första nattens övernattning sker. \n2:a Dagsetappen:\nFrån Odensjö går vandringen norrut längs Bolmens strand med flera natursköna rastplatser\, såsom Önnekvarn\, Sävsås och Tiraholm – känt för sin rökta fisk. Marschen fortsätter via Möllekvarn och Skinnerbo\, innan färjan tar deltagarna över till Bolmsö. Efter färjeöverfarten finns möjlighet till bad vid Bolmens strand\, och övernattning sker i Bolmsö församlingshem. \n3:e Dagsetappen:\nDen sista etappen startar på Bolmsö\, som är den största ön i sjön Bolmen. Vandringen leder via Tannåker och förbi Hölminge mot Mjälen\, där möjlighet finns till bad. Färden fortsätter mot Ålgamossens gamla hamn och vidare längs Bolmens östra strand förbi Nässjön. Slutmålet nås vid Gamla Torg i Ljungby\, där marschen avslutas. \nMat & Dryck:\nFrukost ingår vid rastplatserna med smörgåsar\, frukt samt kaffe eller choklad. Under fredagen och lördagen serveras även varm lunch. Frukt och dryck finns längs etapperna. Specialkost\, som vegetariska alternativ eller diabeteskost\, kan förbeställas. \nAnmälan och Avgift:\n\nStartavgift för medlemmar: 550 kr\nFör övriga: 800 kr\, eller 400 kr per dagsetapp\nDeltagare under 15 år: 300 kr\nEfteranmälan vid start: +300 kr\n\nAvgiften betalas till bankgiro 824-1473\, senast 10 dagar före start. Vid anmälan ska anges:\nNamn\, adress\, födelsedatum\, e-post samt önskemål om inkvartering. \nInkvartering:\nÖvernattning ordnas längs vägen. Deltagarna kan använda sovsäckar och luftmadrasser. Bagagetransport mellan övernattningsplatserna ingår. Vid behov kan inkvartering även ordnas på hotell mot extra kostnad. \nDiplom:\nAlla som genomför samtliga etapper får ett diplom som minne av marschen. \n\nVälkommen till en naturnära upplevelse och en härlig utmaning längs Bolmenmarschen 2025!
URL:https://visitbolmen.se/event/bolmenmarschen-2025/
END:VEVENT
BEGIN:VEVENT
DTSTART;TZID=Europe/Stockholm:20250801T180000
DTEND;TZID=Europe/Stockholm:20250801T233000
DTSTAMP:20260422T164640
CREATED:20250528T172144Z
LAST-MODIFIED:20250528T172144Z
UID:574-1754071200-1754091000@visitbolmen.se
SUMMARY:Trubadur Farozonen - Sommaren på Båtbaren
DESCRIPTION:
URL:https://visitbolmen.se/event/trubadur-farozonen-sommaren-pa-batbaren/
LOCATION:Båtbaren i Tannåker\, Tallbo 2\, Ljungby\, 34139\, Sweden
ORGANIZER;CN="B%C3%A5tbaren i Tann%C3%A5ker":MAILTO:batbarenitannaker@gmail.com
END:VEVENT
BEGIN:VEVENT
DTSTART;TZID=Europe/Stockholm:20250803T140000
DTEND;TZID=Europe/Stockholm:20250803T170000
DTSTAMP:20260422T164640
CREATED:20250526T160905Z
LAST-MODIFIED:20250526T160905Z
UID:537-1754229600-1754240400@visitbolmen.se
SUMMARY:Odensjö Veteranmotorträff 2025
DESCRIPTION:Den tredje augusti är det dags för en ny upplaga av Odensjö Veteranmotorträff! Allt med motor på är välkommet. \n  \nPå plats hittar du bland annat våffelservering\, korvbar\, mattält och badbrygga. \n  \nFrivillig swish för entré! \n 
URL:https://visitbolmen.se/event/odensjo-veteranmotortraff-2025/
LOCATION:Odensjö Hembygdspark
END:VEVENT
BEGIN:VEVENT
DTSTART;TZID=Europe/Stockholm:20250808T180000
DTEND;TZID=Europe/Stockholm:20250808T233000
DTSTAMP:20260422T164640
CREATED:20250528T172255Z
LAST-MODIFIED:20250528T172255Z
UID:576-1754676000-1754695800@visitbolmen.se
SUMMARY:Country med Peter Nilsson - Sommaren på Båtbaren
DESCRIPTION:
URL:https://visitbolmen.se/event/country-med-peter-nilsson-sommaren-pa-batbaren/
LOCATION:Båtbaren i Tannåker\, Tallbo 2\, Ljungby\, 34139\, Sweden
ORGANIZER;CN="B%C3%A5tbaren i Tann%C3%A5ker":MAILTO:batbarenitannaker@gmail.com
END:VEVENT
BEGIN:VEVENT
DTSTART;TZID=Europe/Stockholm:20250816T140000
DTEND;TZID=Europe/Stockholm:20250816T233000
DTSTAMP:20260422T164640
CREATED:20250528T172421Z
LAST-MODIFIED:20250528T172421Z
UID:578-1755352800-1755387000@visitbolmen.se
SUMMARY:Dags sommarfest - Sommaren på Båtbaren
DESCRIPTION:
URL:https://visitbolmen.se/event/dags-sommarfest-sommaren-pa-batbaren/
LOCATION:Båtbaren i Tannåker\, Tallbo 2\, Ljungby\, 34139\, Sweden
ORGANIZER;CN="B%C3%A5tbaren i Tann%C3%A5ker":MAILTO:batbarenitannaker@gmail.com
END:VEVENT
BEGIN:VEVENT
DTSTART;TZID=Europe/Stockholm:20250824T000000
DTEND;TZID=Europe/Stockholm:20250824T235959
DTSTAMP:20260422T164640
CREATED:20250512T202102Z
LAST-MODIFIED:20250512T202102Z
UID:512-1755993600-1756079999@visitbolmen.se
SUMMARY:Allmogemarknad på Stenlunden
DESCRIPTION:Den 24 augusti bjuder vi in till en härlig allmogemarknad där vi tillsammans upplever det bästa från 1800-talet! Det blir en stämningsfull dag fylld av historia\, gemenskap och nostalgi – ett perfekt utflyktsmål för hela familjen! \n  \nVad kan du förvänta dig? \nMarknad med massor av utställare \nGod hemlagad mat från förr \nSagostunder för barnen \nHäst och vagn \nEld och mys kring eldstad \nNaturkunskap och historiska kunskaper \n  \nVill du vara med som utställare eller deltagare? \nHör av dig till: info@stenlunden.com \nOBS! Alla som deltar på marknaden behöver vara klädda som dräng eller piga för att hålla tidsandan levande. \nSprid ordet! \nVi har stora planer – men vi behöver er hjälp att sprida evenemanget. Dela gärna till vänner\, familj och bekanta. \nSkriv in datumet i kalendern direkt – detta vill du inte missa! \nKram från Caroline
URL:https://visitbolmen.se/event/allmogemarknad-pa-stenlunden/
LOCATION:Stenlunden  Café\, Hovdinge stenlund\, Ljungby\, 34194\, Sweden
END:VEVENT
END:VCALENDAR