BEGIN:VCALENDAR
VERSION:2.0
PRODID:-//Visitbolmen - ECPv6.15.17.1//NONSGML v1.0//EN
CALSCALE:GREGORIAN
METHOD:PUBLISH
X-WR-CALNAME:Visitbolmen
X-ORIGINAL-URL:https://visitbolmen.se
X-WR-CALDESC:Händelser för Visitbolmen
REFRESH-INTERVAL;VALUE=DURATION:PT1H
X-Robots-Tag:noindex
X-PUBLISHED-TTL:PT1H
BEGIN:VTIMEZONE
TZID:Europe/Stockholm
BEGIN:DAYLIGHT
TZOFFSETFROM:+0100
TZOFFSETTO:+0200
TZNAME:CEST
DTSTART:20240331T010000
END:DAYLIGHT
BEGIN:STANDARD
TZOFFSETFROM:+0200
TZOFFSETTO:+0100
TZNAME:CET
DTSTART:20241027T010000
END:STANDARD
BEGIN:DAYLIGHT
TZOFFSETFROM:+0100
TZOFFSETTO:+0200
TZNAME:CEST
DTSTART:20250330T010000
END:DAYLIGHT
BEGIN:STANDARD
TZOFFSETFROM:+0200
TZOFFSETTO:+0100
TZNAME:CET
DTSTART:20251026T010000
END:STANDARD
BEGIN:DAYLIGHT
TZOFFSETFROM:+0100
TZOFFSETTO:+0200
TZNAME:CEST
DTSTART:20260329T010000
END:DAYLIGHT
BEGIN:STANDARD
TZOFFSETFROM:+0200
TZOFFSETTO:+0100
TZNAME:CET
DTSTART:20261025T010000
END:STANDARD
END:VTIMEZONE
BEGIN:VEVENT
DTSTART;TZID=Europe/Stockholm:20250509T190000
DTEND;TZID=Europe/Stockholm:20250509T233000
DTSTAMP:20260422T202601
CREATED:20250414T180905Z
LAST-MODIFIED:20250414T180905Z
UID:438-1746817200-1746833400@visitbolmen.se
SUMMARY:Bolmens Bästa – Tiraholms Fisk
DESCRIPTION:Välkommen till en kulinarisk kväll där vi tar ut svängarna lite extra i köket! Njut av en väl avvägd sexrätters middag tillagad med säsongens råvaror\, produkter från gården och kreativitet som sprudlar av vårkänslor. Till varje rätt serveras passande drycker för en komplett smakupplevelse. \nFör den som vill göra kvällen extra minnesvärd erbjuds även ett paket med bastubad\, övernattning på hotellet och en smakrik frukost. \n💰 Prisalternativ: \n\n\n6-rätters meny: 775 kr \n\n\nBOLMENS BÄSTAPAKET (6-rätters meny\, övernattning & frukostbuffé): 1695 kr/person i dubbelrum \n\n\n📞 Boka nu:🌐 www.tiraholm.se📧 boka@tiraholm.se📱 0371-64000
URL:https://visitbolmen.se/event/bolmens-basta-tiraholms-fisk/
LOCATION:Tiraholms Fisk\, Tiraholm\, Unnaryd\, 31083
ORGANIZER;CN="Tiraholms Fisk":MAILTO:fisk@tiraholm.se
END:VEVENT
BEGIN:VEVENT
DTSTART;TZID=Europe/Stockholm:20250518T160000
DTEND;TZID=Europe/Stockholm:20250518T180000
DTSTAMP:20260422T202601
CREATED:20250510T204609Z
LAST-MODIFIED:20250510T204609Z
UID:471-1747584000-1747591200@visitbolmen.se
SUMMARY:Sångarbröder
DESCRIPTION:Konsert med Olle Jönsson och Danne Stråhed. \n  \nTvå ikoner möts i en exklusiv och stämningsfull konsert där musiken förenar. \nDanne och Olle behöver ingen närmare presentation då båda två har en fantastisk låtskatt och karriär bakom sig. Dessutom befinner de sig fortfarande mitt i karriären trots alla år på scenen. De brukar synas var för sig men i denna unika konsert strålar de två vännerna samman och bjuder på alla sina hits från då till nu. Samtidigt berättar de sin historia på ett underhållande sätt. Med en bakgrund inom dansbandsmusiken tar de nu ut svängarna och bjuder på musik från olika genrer. \n  \nDanne gjorde succé i Melodifestivalen med låten Hallabaloo 2022 och Olle i Så mycket bättre där han blev den klart lysande stjärnan och var återigen aktuell i Melodifestivalen 2024. \n  \nHela konserten ackompanjeras av Dannes orkester Dynamo. \n  \nKonserten spelas utan paus i ca 1 h 50 min. Sluttid kan ej garanteras. \nFörköp hos ICA ToGo Tannåker och ICA Nära Ässet Forsheda. \n  \nArrangör är Berga Pastorat och konserten genomförs tillsammans med Nöjeskompaniet \n 
URL:https://visitbolmen.se/event/sangarbroder/
LOCATION:Bolmsö Kyrka\, Kyrkbyvägen 6\, Bolmsö\, 34193\, Sweden
END:VEVENT
BEGIN:VEVENT
DTSTART;TZID=Europe/Stockholm:20250522T000000
DTEND;TZID=Europe/Stockholm:20250523T235959
DTSTAMP:20260422T202601
CREATED:20250217T202502Z
LAST-MODIFIED:20250217T202502Z
UID:372-1747872000-1748044799@visitbolmen.se
SUMMARY:Vatten 360° - Vattenkonferens
DESCRIPTION:Välkommen på en konferens med fokus på världens viktigaste naturresurs – vatten! 💧 Temat för konferensen är ”Kretslopp i balans – från stad till land”. \nFör andra gången arrangerar Region Halland och Forskningsstation Bolmen vattenkonferensen Vatten 360° \nVatten 360° är en återkommande konferens som arrangeras av Region Halland och Forskningsstation Bolmen. Under en och en halv dag utforskar vi hela varvet runt: från städer till landsbygder\, från källa till hav och från ekosystem till människa. \n  \n📅 När? 22–23 maj 2025 \n📍 Var? Tiraholm\, Unnaryd \n👥 För vem? Konferensen riktar sig till representanter från offentlig sektor\, näringsliv\, akademi och idéburen sektor med ett intresse för vatten. \n✅ Anmälan? Konferensen är kostnadsfri och inkluderar mat under båda dagarna. Läs mer och anmäl dig redan idag: Anmälan till Vatten 360° 22-23 maj 2025 \n  \nUnder konferensen får du ta del av inspirerande föreläsningar inom ämnen som: \n• Rättvis och hållbar vattenfördelning i ett förändrat klimat. \n• Vattenrådens roll och potential. \n• Fysisk planering som verktyg för hållbar vattenhantering\, i allt från skogen till urbana miljöer. \n• Ekosystemens vattenbehov. \n  \nVatten 360° ger dig möjlighet att knyta kontakter med ett brett nätverk. Dessutom håller vi till i en vacker miljö vid sjön Bolmen och kan utlova välsmakande middag på Sveriges enda insjöfiskrestaurang (Tiraholms fisk) och fina utomhusaktiviteter.
URL:https://visitbolmen.se/event/vatten-360-vattenkonferens/
LOCATION:Tiraholms Fisk\, Tiraholm\, Unnaryd\, 31083
ATTACH;FMTTYPE=image/png:https://visitbolmen.se/wp-content/uploads/2025/02/Vatten360_Logga_vitbakgrund.png
END:VEVENT
BEGIN:VEVENT
DTSTART;TZID=Europe/Stockholm:20250531T100000
DTEND;TZID=Europe/Stockholm:20250531T150000
DTSTAMP:20260422T202601
CREATED:20250520T161049Z
LAST-MODIFIED:20250520T161049Z
UID:517-1748685600-1748703600@visitbolmen.se
SUMMARY:Prova på segling
DESCRIPTION:Segelsällskapet Angantyr bjuder in till prova-på-segling i Bolmstad hamn.\nDu seglar tillsammans med en instruktör och behöver inte ha erfarenhet av segling sedan tidigare. \nFlytväst finns att låna. Alla är välkomna och seglingen är gratis!\nDet bjuds på korv med bröd och kaffe. \n 
URL:https://visitbolmen.se/event/prova-pa-segling/
LOCATION:Bolmstad Hamn\, von Schönbergs allé\, Ljungby\, 34196
END:VEVENT
END:VCALENDAR