BEGIN:VCALENDAR
VERSION:2.0
PRODID:-//Visitbolmen - ECPv6.15.17.1//NONSGML v1.0//EN
CALSCALE:GREGORIAN
METHOD:PUBLISH
X-WR-CALNAME:Visitbolmen
X-ORIGINAL-URL:https://visitbolmen.se
X-WR-CALDESC:Händelser för Visitbolmen
REFRESH-INTERVAL;VALUE=DURATION:PT1H
X-Robots-Tag:noindex
X-PUBLISHED-TTL:PT1H
BEGIN:VTIMEZONE
TZID:Europe/Stockholm
BEGIN:DAYLIGHT
TZOFFSETFROM:+0100
TZOFFSETTO:+0200
TZNAME:CEST
DTSTART:20240331T010000
END:DAYLIGHT
BEGIN:STANDARD
TZOFFSETFROM:+0200
TZOFFSETTO:+0100
TZNAME:CET
DTSTART:20241027T010000
END:STANDARD
BEGIN:DAYLIGHT
TZOFFSETFROM:+0100
TZOFFSETTO:+0200
TZNAME:CEST
DTSTART:20250330T010000
END:DAYLIGHT
BEGIN:STANDARD
TZOFFSETFROM:+0200
TZOFFSETTO:+0100
TZNAME:CET
DTSTART:20251026T010000
END:STANDARD
BEGIN:DAYLIGHT
TZOFFSETFROM:+0100
TZOFFSETTO:+0200
TZNAME:CEST
DTSTART:20260329T010000
END:DAYLIGHT
BEGIN:STANDARD
TZOFFSETFROM:+0200
TZOFFSETTO:+0100
TZNAME:CET
DTSTART:20261025T010000
END:STANDARD
END:VTIMEZONE
BEGIN:VEVENT
DTSTART;TZID=Europe/Stockholm:20250405T110000
DTEND;TZID=Europe/Stockholm:20250405T170000
DTSTAMP:20260422T215057
CREATED:20250225T175037Z
LAST-MODIFIED:20250225T175037Z
UID:393-1743850800-1743872400@visitbolmen.se
SUMMARY:Påsk på Tiraholm
DESCRIPTION:Välkommen till Tiraholms Fisk under påskhelgen för en härlig mix av mat\, marknad och mysiga upplevelser! \n🗓 Datum: Lördag 5 april 2025🕚 Tid: 11:00 – 17:00📍 Plats: Tiraholm\, vid sjön Bolmen \nHöjdpunkter under påsken:\n🐟 Fiskrestaurangen – Öppen hela påsken\, njut av färska och lokala fiskrätter!🍦 Glasscafé – Säsongspremiär den 5 april!🛍 Påskmarknad – Upptäck lokala delikatesser\, hantverk och påskiga godsaker!🛒 Gårdsbutiken – Öppen hela påsken\, fylld med rökta fiskprodukter och andra lokala varor.🚛 Fiskbilen – Kommer nära dig! \nPåskpaket och marknadspaket\n📌 Påskpaket: \n\n2 övernattningar\n2 middagar\n2 frukostar\nBastu💰 Pris: 3445:-\n\n📌 Påskmarknadspaket: \n\n1 övernattning\nPåskmiddag\nFrukost\nBastu💰 Pris: 1695:-\n\nUpplev en påsk fylld av god mat\, trevlig shopping och en härlig atmosfär vid sjön Bolmen! \n📞 Boka nu: 0371-64000📧 Mail: boka@tiraholm.se🌍 Läs mer: www.tiraholm.se \nVälkommen till Påsk på Tiraholm – där Småland möter Halland! 🐣💛
URL:https://visitbolmen.se/event/pask-pa-tiraholm/
LOCATION:Tiraholms Fisk\, Tiraholm\, Unnaryd\, 31083
ORGANIZER;CN="Tiraholms Fisk":MAILTO:fisk@tiraholm.se
END:VEVENT
BEGIN:VEVENT
DTSTART;TZID=Europe/Stockholm:20250417T100000
DTEND;TZID=Europe/Stockholm:20250420T160000
DTSTAMP:20260422T215057
CREATED:20250321T072237Z
LAST-MODIFIED:20250321T072237Z
UID:425-1744884000-1745164800@visitbolmen.se
SUMMARY:Fira påsken på Stenlunden
DESCRIPTION:Fira påsken med hoppborgar\, hinderbana\, lekar\, ponnyridning\, påskpyssel och möjlighet att gosa med får. \n📍 Plats: Åkern vid Stenlundens bageri🕙 Öppettider: \n\nSkärtorsdag & Långfredag: 10:00–17:00\nPåskafton & Påskdagen: 10:00–16:00\n\nPerfekt för familjer och barn som vill fira påsken med lek och djur! 🌷🐰
URL:https://visitbolmen.se/event/fira-pasken-pa-stenlunden/
LOCATION:Stenlunden  Café\, Hovdinge stenlund\, Ljungby\, 34194\, Sweden
END:VEVENT
BEGIN:VEVENT
DTSTART;TZID=Europe/Stockholm:20250419T110000
DTEND;TZID=Europe/Stockholm:20250419T170000
DTSTAMP:20260422T215057
CREATED:20250417T203006Z
LAST-MODIFIED:20250417T203006Z
UID:441-1745060400-1745082000@visitbolmen.se
SUMMARY:Påskäggsjakt i Sunnaryd
DESCRIPTION:Välkommen till en rolig och spännande påskäggsjakt på Pulsen i Sunnaryd\, arrangerad av Sunnaryds byalag! \n  \nDatum: Lördag 19 april (påskafton) \nTid: Start kl. 11.00 med gemensam uppvärmning – jakten börjar kl. 11.10 \nPlats: Pulsen vid Kårehamn i Sunnaryd \n  \nDet kommer att gömmas ägg med vinster i varje! Ett ägg per barn upp till 15 år – vuxna får gärna hjälpa till att leta. \n  \nEvenemanget är gratis\, men vi uppskattar om ni meddelar hur många barn som kommer senast den 17 april till 0735360198. \n  \nDet kommer även finnas möjlighet att köpa fika på plats. \n  \nHoppas vi ses – ta med glatt humör och påskpepp!
URL:https://visitbolmen.se/event/paskaggsjakt-i-sunnaryd/
LOCATION:Pulsen Sunnaryd
END:VEVENT
BEGIN:VEVENT
DTSTART;TZID=Europe/Stockholm:20250426T183000
DTEND;TZID=Europe/Stockholm:20250426T233000
DTSTAMP:20260422T215057
CREATED:20250130T154251Z
LAST-MODIFIED:20250130T154251Z
UID:300-1745692200-1745710200@visitbolmen.se
SUMMARY:Blues i Sjöviken
DESCRIPTION:Traditionen fortsätter när vi på våren lyfter taket i Sveriges vackraste bygdegård Sjöviken på Bolmsö.Blues för hela slanten. I år spelar som traditionen säger fantastiska Tom & the Backstabbers och i år har vi fått med oss lokala bandet Bluenecks med Ronja.Förköp din biljett genom att swisha 250kr till 0761178689Försäljning av alkoholfria drycker enklare mat och kaffe erbjuds och vill du ha något starkare att dricka tar du med det själv. Som vanligt ÅLDERSGRÄNS 16 ÅR. Insläpp från 18:30. \nOBS! Förköpspris gäller till och med 20 april därefter kostar en biljett 280kr \n 
URL:https://visitbolmen.se/event/blues-i-sjoviken/
LOCATION:Bolmsö Bygdegård Sjöviken\, Kyrkbyvägen\, Bolmsö\, 34193\, Sweden
ATTACH;FMTTYPE=image/jpeg:https://visitbolmen.se/wp-content/uploads/2025/01/474111405_9458423034176732_6992006405037514054_n.jpg
ORGANIZER;CN="Bygdeg%C3%A5rden Sj%C3%B6viken":MAILTO:bygdegarden@bolmso.se
END:VEVENT
BEGIN:VEVENT
DTSTART;TZID=Europe/Stockholm:20250430T180000
DTEND;TZID=Europe/Stockholm:20250430T210000
DTSTAMP:20260422T215057
CREATED:20250130T160404Z
LAST-MODIFIED:20250130T160404Z
UID:317-1746036000-1746046800@visitbolmen.se
SUMMARY:Valborgsmässofirande i Lidhult
DESCRIPTION:Traditionellt valborgsmässofirande med vårtal av Ola Hemström.\nMusikunderhållning\, SvenOlof Carlsson/Rixons orkester\nFramträdande av Kyrkokören\nServering
URL:https://visitbolmen.se/event/valborgsmassofirande-i-lidhult/
LOCATION:Hembygdsparken Lidhult\, Sweden
END:VEVENT
BEGIN:VEVENT
DTSTART;TZID=Europe/Stockholm:20250430T190000
DTEND;TZID=Europe/Stockholm:20250430T233000
DTSTAMP:20260422T215057
CREATED:20250331T162858Z
LAST-MODIFIED:20250331T162858Z
UID:433-1746039600-1746055800@visitbolmen.se
SUMMARY:Valborgsmässoafton på Bolmsö 2025
DESCRIPTION:Valborgsmässoafton på Bolmsö 2025Datum: Onsdagen den 30 aprilTid: Kl. 19.00Plats: Bolmsö Bygdegård\, Sjöviken \nVälkomna att fira in våren med oss denna afton! Vi bjuder på en stämningsfull kväll med: \n\n\nSång: Framförd av Bolmsö och Tannåkers kyrkokör\, under ledning av Olle Heverius \n\n\nVårtal: Av Malin Kihlberg \n\n\nServering: Inne i bygdegården \n\n\nVi ser fram emot att dela en härlig kväll med gemenskap\, sång och inspirerande ord.Varmt välkomna! \nHälsningar\,Bolmsö Bygdegårdsförening
URL:https://visitbolmen.se/event/valborgsmassoafton-pa-bolmso-2025/
LOCATION:Bolmsö Bygdegård Sjöviken\, Kyrkbyvägen\, Bolmsö\, 34193\, Sweden
ORGANIZER;CN="Bygdeg%C3%A5rden Sj%C3%B6viken":MAILTO:bygdegarden@bolmso.se
END:VEVENT
END:VCALENDAR