BEGIN:VCALENDAR
VERSION:2.0
PRODID:-//Visitbolmen - ECPv6.15.17.1//NONSGML v1.0//EN
CALSCALE:GREGORIAN
METHOD:PUBLISH
X-WR-CALNAME:Visitbolmen
X-ORIGINAL-URL:https://visitbolmen.se
X-WR-CALDESC:Händelser för Visitbolmen
REFRESH-INTERVAL;VALUE=DURATION:PT1H
X-Robots-Tag:noindex
X-PUBLISHED-TTL:PT1H
BEGIN:VTIMEZONE
TZID:Europe/Stockholm
BEGIN:DAYLIGHT
TZOFFSETFROM:+0100
TZOFFSETTO:+0200
TZNAME:CEST
DTSTART:20230326T010000
END:DAYLIGHT
BEGIN:STANDARD
TZOFFSETFROM:+0200
TZOFFSETTO:+0100
TZNAME:CET
DTSTART:20231029T010000
END:STANDARD
BEGIN:DAYLIGHT
TZOFFSETFROM:+0100
TZOFFSETTO:+0200
TZNAME:CEST
DTSTART:20240331T010000
END:DAYLIGHT
BEGIN:STANDARD
TZOFFSETFROM:+0200
TZOFFSETTO:+0100
TZNAME:CET
DTSTART:20241027T010000
END:STANDARD
BEGIN:DAYLIGHT
TZOFFSETFROM:+0100
TZOFFSETTO:+0200
TZNAME:CEST
DTSTART:20250330T010000
END:DAYLIGHT
BEGIN:STANDARD
TZOFFSETFROM:+0200
TZOFFSETTO:+0100
TZNAME:CET
DTSTART:20251026T010000
END:STANDARD
END:VTIMEZONE
BEGIN:VEVENT
DTSTART;TZID=Europe/Stockholm:20241109T000000
DTEND;TZID=Europe/Stockholm:20241110T235959
DTSTAMP:20260423T051155
CREATED:20241108T143248Z
LAST-MODIFIED:20241108T143248Z
UID:185-1731110400-1731283199@visitbolmen.se
SUMMARY:Mårten Gös
DESCRIPTION:Varmt välkomna att fira den gösrika sjön Bolmen. En härlig 3-rätters gösamiddag står på menyn och ni kan boka med eller utan hotellövernattning och bastu.\n\n\n\nEfter att vår rökta gös kammade hem SM-guldet i hantverk firar vi lite extra i år. Det är dessutom Fars Dag så kom och fira alla pappor\, män & vardagshjältar med en Gösamiddag!\n\n\n\nVälkommen \nFamiljen Ekwall med personal
URL:https://visitbolmen.se/event/marten-gos/
LOCATION:Tiraholms Fisk\, Tiraholm\, Unnaryd\, 31083
END:VEVENT
BEGIN:VEVENT
DTSTART;TZID=Europe/Stockholm:20241117T140000
DTEND;TZID=Europe/Stockholm:20241117T233000
DTSTAMP:20260423T051155
CREATED:20241108T142100Z
LAST-MODIFIED:20241108T142100Z
UID:172-1731852000-1731886200@visitbolmen.se
SUMMARY:Dannäsfilmen i Sjöviken
DESCRIPTION:I maj var det premiär för filmen ”Västbo smörklimp – Dannäs\, bäddat för historia”\, dokumentärfilmen som Studieförbundet Vuxenskolan skapat i\nsamarbete med Dannäs Hembygdsförening. \nNu har vi fått möjlighet att visa den i Bolmsö Bygdegård Sjöviken\, söndagen den 17 november.\nFika från kl 14 och filmen startar kl 14:30\, innan dess kommer\nSaga Alexandersson att berätta om filmen. \nVälkomna önskar Bolmsö Hembygdsförening
URL:https://visitbolmen.se/event/dannasfilmen-i-sjoviken/
LOCATION:Bolmsö Bygdegård Sjöviken\, Kyrkbyvägen\, Bolmsö\, 34193\, Sweden
END:VEVENT
BEGIN:VEVENT
DTSTART;TZID=Europe/Stockholm:20241123T080000
DTEND;TZID=Europe/Stockholm:20241124T170000
DTSTAMP:20260423T051155
CREATED:20241108T142802Z
LAST-MODIFIED:20241108T142802Z
UID:179-1732348800-1732467600@visitbolmen.se
SUMMARY:Adventsmys på Lantcafé Verkstan
DESCRIPTION:Lantcafé Verkstan i Kårabo\nöppnar upp för försäljning av adventsfika\,\nskinkmacka på surdegsbröd\, saffransbröd och pepparkakor. \nLördag 13-18\, söndag 13-17. \nTill försäljning finns också:\nCementalster\nGrönsaker och rotfrukter\nDörrkransar\nHonung\nHemgjord mexikansk salsa\nHandgjorda smycken från Latinamerika\nSilversmycken (endast söndag)\nStickat\nmm.\nHåll utkik på Facebook\n”Lantcafé Verkstan” för information\nVälkomna! \n 
URL:https://visitbolmen.se/event/adventsmys-pa-lantcafe-verkstan/
LOCATION:Lantcafé Verkstan\, Jonsboda Kårabo 1\, Vittaryd\, 34155
END:VEVENT
END:VCALENDAR