BEGIN:VCALENDAR
VERSION:2.0
PRODID:-//Visitbolmen - ECPv6.15.17.1//NONSGML v1.0//EN
CALSCALE:GREGORIAN
METHOD:PUBLISH
X-WR-CALNAME:Visitbolmen
X-ORIGINAL-URL:https://visitbolmen.se
X-WR-CALDESC:Händelser för Visitbolmen
REFRESH-INTERVAL;VALUE=DURATION:PT1H
X-Robots-Tag:noindex
X-PUBLISHED-TTL:PT1H
BEGIN:VTIMEZONE
TZID:Europe/Stockholm
BEGIN:DAYLIGHT
TZOFFSETFROM:+0100
TZOFFSETTO:+0200
TZNAME:CEST
DTSTART:20230326T010000
END:DAYLIGHT
BEGIN:STANDARD
TZOFFSETFROM:+0200
TZOFFSETTO:+0100
TZNAME:CET
DTSTART:20231029T010000
END:STANDARD
BEGIN:DAYLIGHT
TZOFFSETFROM:+0100
TZOFFSETTO:+0200
TZNAME:CEST
DTSTART:20240331T010000
END:DAYLIGHT
BEGIN:STANDARD
TZOFFSETFROM:+0200
TZOFFSETTO:+0100
TZNAME:CET
DTSTART:20241027T010000
END:STANDARD
BEGIN:DAYLIGHT
TZOFFSETFROM:+0100
TZOFFSETTO:+0200
TZNAME:CEST
DTSTART:20250330T010000
END:DAYLIGHT
BEGIN:STANDARD
TZOFFSETFROM:+0200
TZOFFSETTO:+0100
TZNAME:CET
DTSTART:20251026T010000
END:STANDARD
BEGIN:DAYLIGHT
TZOFFSETFROM:+0100
TZOFFSETTO:+0200
TZNAME:CEST
DTSTART:20260329T010000
END:DAYLIGHT
BEGIN:STANDARD
TZOFFSETFROM:+0200
TZOFFSETTO:+0100
TZNAME:CET
DTSTART:20261025T010000
END:STANDARD
END:VTIMEZONE
BEGIN:VEVENT
DTSTART;TZID=Europe/Stockholm:20250419T110000
DTEND;TZID=Europe/Stockholm:20250419T170000
DTSTAMP:20260422T181038
CREATED:20250417T203006Z
LAST-MODIFIED:20250417T203006Z
UID:441-1745060400-1745082000@visitbolmen.se
SUMMARY:Påskäggsjakt i Sunnaryd
DESCRIPTION:Välkommen till en rolig och spännande påskäggsjakt på Pulsen i Sunnaryd\, arrangerad av Sunnaryds byalag! \n  \nDatum: Lördag 19 april (påskafton) \nTid: Start kl. 11.00 med gemensam uppvärmning – jakten börjar kl. 11.10 \nPlats: Pulsen vid Kårehamn i Sunnaryd \n  \nDet kommer att gömmas ägg med vinster i varje! Ett ägg per barn upp till 15 år – vuxna får gärna hjälpa till att leta. \n  \nEvenemanget är gratis\, men vi uppskattar om ni meddelar hur många barn som kommer senast den 17 april till 0735360198. \n  \nDet kommer även finnas möjlighet att köpa fika på plats. \n  \nHoppas vi ses – ta med glatt humör och påskpepp!
URL:https://visitbolmen.se/event/paskaggsjakt-i-sunnaryd/
LOCATION:Pulsen Sunnaryd
END:VEVENT
BEGIN:VEVENT
DTSTART;TZID=Europe/Stockholm:20250417T100000
DTEND;TZID=Europe/Stockholm:20250420T160000
DTSTAMP:20260422T181038
CREATED:20250321T072237Z
LAST-MODIFIED:20250321T072237Z
UID:425-1744884000-1745164800@visitbolmen.se
SUMMARY:Fira påsken på Stenlunden
DESCRIPTION:Fira påsken med hoppborgar\, hinderbana\, lekar\, ponnyridning\, påskpyssel och möjlighet att gosa med får. \n📍 Plats: Åkern vid Stenlundens bageri🕙 Öppettider: \n\nSkärtorsdag & Långfredag: 10:00–17:00\nPåskafton & Påskdagen: 10:00–16:00\n\nPerfekt för familjer och barn som vill fira påsken med lek och djur! 🌷🐰
URL:https://visitbolmen.se/event/fira-pasken-pa-stenlunden/
LOCATION:Stenlunden  Café\, Hovdinge stenlund\, Ljungby\, 34194\, Sweden
END:VEVENT
BEGIN:VEVENT
DTSTART;TZID=Europe/Stockholm:20250405T110000
DTEND;TZID=Europe/Stockholm:20250405T170000
DTSTAMP:20260422T181038
CREATED:20250225T175037Z
LAST-MODIFIED:20250225T175037Z
UID:393-1743850800-1743872400@visitbolmen.se
SUMMARY:Påsk på Tiraholm
DESCRIPTION:Välkommen till Tiraholms Fisk under påskhelgen för en härlig mix av mat\, marknad och mysiga upplevelser! \n🗓 Datum: Lördag 5 april 2025🕚 Tid: 11:00 – 17:00📍 Plats: Tiraholm\, vid sjön Bolmen \nHöjdpunkter under påsken:\n🐟 Fiskrestaurangen – Öppen hela påsken\, njut av färska och lokala fiskrätter!🍦 Glasscafé – Säsongspremiär den 5 april!🛍 Påskmarknad – Upptäck lokala delikatesser\, hantverk och påskiga godsaker!🛒 Gårdsbutiken – Öppen hela påsken\, fylld med rökta fiskprodukter och andra lokala varor.🚛 Fiskbilen – Kommer nära dig! \nPåskpaket och marknadspaket\n📌 Påskpaket: \n\n2 övernattningar\n2 middagar\n2 frukostar\nBastu💰 Pris: 3445:-\n\n📌 Påskmarknadspaket: \n\n1 övernattning\nPåskmiddag\nFrukost\nBastu💰 Pris: 1695:-\n\nUpplev en påsk fylld av god mat\, trevlig shopping och en härlig atmosfär vid sjön Bolmen! \n📞 Boka nu: 0371-64000📧 Mail: boka@tiraholm.se🌍 Läs mer: www.tiraholm.se \nVälkommen till Påsk på Tiraholm – där Småland möter Halland! 🐣💛
URL:https://visitbolmen.se/event/pask-pa-tiraholm/
LOCATION:Tiraholms Fisk\, Tiraholm\, Unnaryd\, 31083
ORGANIZER;CN="Tiraholms Fisk":MAILTO:fisk@tiraholm.se
END:VEVENT
BEGIN:VEVENT
DTSTART;TZID=Europe/Stockholm:20250315T150000
DTEND;TZID=Europe/Stockholm:20250315T200000
DTSTAMP:20260422T181038
CREATED:20250216T182347Z
LAST-MODIFIED:20250216T182347Z
UID:353-1742050800-1742068800@visitbolmen.se
SUMMARY:Odla med Lillan
DESCRIPTION:Lillan Papp berättar om hur du kan odla med NoDig-/täckodling – en metod som gör det möjligt att odla även där marken är svår att gräva. \n  \n📍 Plats: Tannåker Bygdegård\, Åsarna \n🗓️ Datum: Lördag 15 mars \n🕒 Tid: Kl. 15:00 \n  \n☕ Fika finns att köpa till självkostnadspris. \nKom och inspireras av hållbar odling! \n  \nArrangör: Tannåker Bygdegård Åsarna / Tannåker sockenråd \n  \nVarmt välkomna! 🌿 \n 
URL:https://visitbolmen.se/event/odla-med-lillan/
ATTACH;FMTTYPE=image/jpeg:https://visitbolmen.se/wp-content/uploads/2025/02/FB_IMG_1739729996538.jpg
END:VEVENT
BEGIN:VEVENT
DTSTART;TZID=Europe/Stockholm:20250301T150000
DTEND;TZID=Europe/Stockholm:20250301T170000
DTSTAMP:20260422T181038
CREATED:20250130T160139Z
LAST-MODIFIED:20250130T160139Z
UID:313-1740841200-1740848400@visitbolmen.se
SUMMARY:Musikcafé med ARRAY!
DESCRIPTION:Kom och njut av härlig musik med bandet ARRAY på Gautablick i Lidhult\nFika ingår i biljettpriset. \nLotterier. \nBegränsat antal platser! Boka senast 23 februari.\nRing Christin: 0738-16 68 41 eller mejla: christin.rohdin@gmail.com\nSwisha: 123 480 35 32 (ange namn och antal barn/vuxna) \nAlla intäkter går oavkortat till Lidhults Rödakorsgrupps verksamhet.
URL:https://visitbolmen.se/event/musikcafe-med-array/
LOCATION:Gautablick Dagcenter\, Bryggaregatan 32\, Lidhult\, 34010
ATTACH;FMTTYPE=image/jpeg:https://visitbolmen.se/wp-content/uploads/2025/01/ARRAY-2025-FBinlagg.jpg
END:VEVENT
BEGIN:VEVENT
DTSTART;TZID=Europe/Stockholm:20250227T190000
DTEND;TZID=Europe/Stockholm:20250227T210000
DTSTAMP:20260422T181038
CREATED:20250130T155908Z
LAST-MODIFIED:20250130T155908Z
UID:309-1740682800-1740690000@visitbolmen.se
SUMMARY:Musikquiz i Angelstad Folkets hus
DESCRIPTION:Välkommen på Musikkviss i Angelstad Folkets hus!\nKvissledare Karin och Maria guidar er genom ett antal kluriga frågor med musikalisk koppling.\nBilda ett lag på max fyra personer och kom och tävla. Bästa lag belönas med pris och ära! \nDet är gratis att delta men du kan stödja föreningen genom att köpa lotter och fika på plats. Ta med kontanter! \nKvisset är ett samarbete med ABF Kronoberg.
URL:https://visitbolmen.se/event/musikquiz-i-angelstad-folkets-hus/
LOCATION:Angelstad Folkets Hus\, RQGJ+33\, Ljungby\, 34194
ORGANIZER;CN="Angelstads Byggnadsf%C3%B6rening Fram%C3%A5t":MAILTO:torbjorn.johansson@hotmail.com
END:VEVENT
BEGIN:VEVENT
DTSTART;TZID=Europe/Stockholm:20250216T133000
DTEND;TZID=Europe/Stockholm:20250216T163000
DTSTAMP:20260422T181038
CREATED:20250206T214804Z
LAST-MODIFIED:20250206T214804Z
UID:343-1739712600-1739723400@visitbolmen.se
SUMMARY:Piaf-Passion-Paris Extraföreställ
DESCRIPTION:MATINÉ-FÖRESTÄLLNING UTAN SUPÉ \nFikapaus med äppelkaka\, kaffe\, te eller saft \n  \nEn föreställing med känslan av Paris direkt innanför dörren . Känn på stämningar och musik från första världskriget\, gatans villkor i mellankrigstid\, rännstensromanser\, ockupationen\, krig och fred\, och fram till Edith Piafs begravning – när trafiken stod still på Paris gator. \n  \nDet blir starka känslor\, kärlek och passion\, ödesmättade berättelser och inlevelser. Res till Paris för en kväll och börja med en mustig Bœuf Bourguignon och något gott att dricka. \n  \nSjöviken öppnar 13:30 \n* Föreställning 14:00 \n* Pausfika ca 15 \n* Föreställning slutar ca 16:30 \n  \nFöreställningen produceras av Bolmenbygdens kulturförening
URL:https://visitbolmen.se/event/piaf-passion-paris-extraforestall/
LOCATION:Bolmsö Bygdegård Sjöviken\, Kyrkbyvägen\, Bolmsö\, 34193\, Sweden
ORGANIZER;CN="Bygdeg%C3%A5rden Sj%C3%B6viken":MAILTO:bygdegarden@bolmso.se
END:VEVENT
BEGIN:VEVENT
DTSTART;TZID=Europe/Stockholm:20250214T180000
DTEND;TZID=Europe/Stockholm:20250214T233000
DTSTAMP:20260422T181038
CREATED:20250129T172212Z
LAST-MODIFIED:20250129T172212Z
UID:293-1739556000-1739575800@visitbolmen.se
SUMMARY:Fiskfondue på Tiraholms Fisk
DESCRIPTION:En klassiker är tillbaka! \n  \nPå våran uppskattade fonduekväll dukar vi upp en härlig buffé med tre sorters fonduer och fyra olika fiskar att tillaga själv i de bubblande grytorna. Läckra tillbehör och drycker. Förrätt och dessert! \n  \nBokas på boka@tiraholm.se
URL:https://visitbolmen.se/event/fiskfondue-pa-tiraholms-fisk/
LOCATION:Tiraholms Fisk\, Tiraholm\, Unnaryd\, 31083
ORGANIZER;CN="Tiraholms Fisk":MAILTO:fisk@tiraholm.se
END:VEVENT
BEGIN:VEVENT
DTSTART;TZID=Europe/Stockholm:20250214T170000
DTEND;TZID=Europe/Stockholm:20250214T233000
DTSTAMP:20260422T181038
CREATED:20250130T195655Z
LAST-MODIFIED:20250130T195928Z
UID:336-1739552400-1739575800@visitbolmen.se
SUMMARY:Alla hjärtans dag på Båtbaren i Tannåker
DESCRIPTION:Alla hjärtans dag den 14 februari\, med öppning kl. 17:00. Välj på två eller trerättersmiddag med följande alternativ: \n\nFörrätt: Löksoppa eller Toast Skagen\nVarmrätt: Oxfilé med pepparsås\, primörer\, grädde och persilja\nEfterrätt: Chokladcrêpes med hasselnötskräm och färska bär\n\nPriser: \n\nTvårätters: 250 kr\nTrerätters: 290 kr
URL:https://visitbolmen.se/event/alla-hjartans-dag-pa-batbaren-i-tannaker/
LOCATION:Båtbaren i Tannåker\, Tallbo 2\, Ljungby\, 34139\, Sweden
ATTACH;FMTTYPE=image/jpeg:https://visitbolmen.se/wp-content/uploads/2025/01/474884381_570572859293154_8439057113564705996_n.jpg
ORGANIZER;CN="B%C3%A5tbaren i Tann%C3%A5ker":MAILTO:batbarenitannaker@gmail.com
END:VEVENT
BEGIN:VEVENT
DTSTART;TZID=Europe/Stockholm:20250214T170000
DTEND;TZID=Europe/Stockholm:20250214T213000
DTSTAMP:20260422T181038
CREATED:20250128T205827Z
LAST-MODIFIED:20250129T170609Z
UID:272-1739552400-1739568600@visitbolmen.se
SUMMARY:Piaf - Passion - Paris
DESCRIPTION:Upplev Paris magi med musik\, mingel\, goda drycker och en mustig supé! \n  \nProgram: \n17:00: Sjöviken öppnar \n18:00: Supé – Bœuf Bourguignon serveras \n19:00: Föreställning (med paus 19:50–20:20) \n21:30: Slut \nFölj med på en resa genom tidens Paris\, från första världskriget till Edith Piafs begravning. Kärlek\, passion och starka berättelser framförs av Bolmsö Old Stars\, Irene ”Bolmsös egen Piaf” Olofsson\, Malin Kihlberg m.fl. \n  \nPris: 300 kr (exkl. dryck) \nArrangör: Bolmenbygdens Kulturförening i samarbete med Bolmsö Bygdegårdsförening. \n  \nVälkommen till en minnesvärd kväll!
URL:https://visitbolmen.se/event/piaf-passion-paris/
LOCATION:Bolmsö Bygdegård Sjöviken\, Kyrkbyvägen\, Bolmsö\, 34193\, Sweden
END:VEVENT
BEGIN:VEVENT
DTSTART;TZID=Europe/Stockholm:20250214T000000
DTEND;TZID=Europe/Stockholm:20250214T235959
DTSTAMP:20260422T181038
CREATED:20250210T220159Z
LAST-MODIFIED:20250210T220251Z
UID:349-1739491200-1739577599@visitbolmen.se
SUMMARY:Pizzabuffé - Alla hjärtans dag på Stenlunden
DESCRIPTION:På alla hjärtans dag öppnar vi upp pizzabuffe med massa härliga tillbehör och ett helt bord med desserter… \nHjärtligt välkomna att boka bord till 073 500 62 84 ❤️
URL:https://visitbolmen.se/event/pizzabuffe-alla-hjartans-dag-pa-stenlunden/
LOCATION:Stenlunden  Café\, Hovdinge stenlund\, Ljungby\, 34194\, Sweden
ATTACH;FMTTYPE=image/jpeg:https://visitbolmen.se/wp-content/uploads/2025/02/FB_IMG_1739224890163.jpg
END:VEVENT
BEGIN:VEVENT
DTSTART;TZID=Europe/Stockholm:20241214T000000
DTEND;TZID=Europe/Stockholm:20241215T235959
DTSTAMP:20260422T181038
CREATED:20241114T133723Z
LAST-MODIFIED:20241114T133723Z
UID:247-1734134400-1734307199@visitbolmen.se
SUMMARY:Jul vid Bolmen
DESCRIPTION:Välkommen till Jul vid Bolmen – 30-årsjubileum av Bolmendagen! \n\n\nHelgen den 14–15 december har Bolmens FVOF anordnat en julversion av Bolmendagen – Jul vid Bolmen.\nTa med familj och vänner för en helg fylld av julstämning runt vår vackra sjö Bolmen!\n\n\n\nDu hittar bland annat följande:\n\n\n* Två stora julmarknader på Tiraholms Fisk och Dannäs där totalt 80 mat- och konsthantverkare ställer ut sina produkter. Passa på att köpa unika julklappar och godsaker till julbordet!\n\n\n* Akvarellutställning och en vackert pyntad trädgård i Svanaholm med riktig julkänsla!\n\n\n* Lokala företag och gårdar som bjuder in till öppet hus med julklappstips\, fika och möjlighet att köpa lokalproducerade produkter – ett perfekt sätt att stötta det lokala och njuta av julens alla fantastiska smaker.\n\n\nHär är en lista på alla aktiviteter:\n\n\nTiraholms Fisk\n11:00-16:00\nLördag & söndag \nHantverksmarknad\nCa 50 utställare.\nFiskrestaurang\nAdventsfrukost\nGårdsbutik\nVinterbar \n\n\n\nBökkullen – Svanaholm\nKom och se en riktig julträdgård. Kör ner till hamnen och njut av ljusen. \n  \n\nBackagärdet\n10:00-16:00\nLördag & söndag \nAkvareller\, Lilla slättens blommor. Kaffe & glögg. \nSödra Torp\n10:00-18:00\nLördag & söndag \nAntikt & Loppis. Nostalgimackar. \nTwo Faces of Sweden – Hjälmaryd\n10:00 – 16:00\nLördag & söndag \n20% på hela sortimentet. \nJulmarknad i Dannäs\n10:00 – 16:00\nLördag \nCa 30 utställare samt våffelcafe. \nTannåkers butik för sakletare\n11:00 – 15:00\nLördag & söndag \nOrörda & vältummade julklappar.
URL:https://visitbolmen.se/event/jul-vid-bolmen/
END:VEVENT
BEGIN:VEVENT
DTSTART;TZID=Europe/Stockholm:20241214T000000
DTEND;TZID=Europe/Stockholm:20241215T235959
DTSTAMP:20260422T181038
CREATED:20241108T143457Z
LAST-MODIFIED:20250129T165517Z
UID:188-1734134400-1734307199@visitbolmen.se
SUMMARY:Julmarknad på Tiraholms Fisk 2024
DESCRIPTION:Julmarknad vid Bolmen helgen innan jul har nu etablerat sig somen av de mer genuina\, trevliga och lokala marknaderna i trakten.Välkommen lördag och söndag kl 11-16 bägge dagarna.\n\nCa 50 mat- och konsthantverkare:julens drycker\, ost\, balsamico\, kakor\, honung\, must\, bröd\, karameller\, fårskinn\, vävt\, sytt\, smycken\, stickat\, snickrat\, babysaker\, stöpta ljus\, keramik\, konst\n\nGårdsbutik med fiskdelikatesser till julbordet\n\nRestaurang med julig a lá cartemeny kl 12-17 bägge dagarna\n3-rätters julmiddag från kl 17 på lördagen\n\nJulmarknadspaket: 3-rätters julmiddag på lördagkväll\, hotellboende\, bastu\, adventsfrukost på söndagen 1695:- per person\n\nAdventsfrukost i restaurangen 8-11 på söndagen\n\nVinterbar med värmande fika och lättare mat\n\nJulstämning i massor!
URL:https://visitbolmen.se/event/julmarknad-pa-tiraholms-fisk-2024/
LOCATION:Tiraholms Fisk\, Tiraholm\, Unnaryd\, 31083
ORGANIZER;CN="Tiraholms Fisk":MAILTO:fisk@tiraholm.se
END:VEVENT
BEGIN:VEVENT
DTSTART;TZID=Europe/Stockholm:20241123T080000
DTEND;TZID=Europe/Stockholm:20241124T170000
DTSTAMP:20260422T181038
CREATED:20241108T142802Z
LAST-MODIFIED:20241108T142802Z
UID:179-1732348800-1732467600@visitbolmen.se
SUMMARY:Adventsmys på Lantcafé Verkstan
DESCRIPTION:Lantcafé Verkstan i Kårabo\nöppnar upp för försäljning av adventsfika\,\nskinkmacka på surdegsbröd\, saffransbröd och pepparkakor. \nLördag 13-18\, söndag 13-17. \nTill försäljning finns också:\nCementalster\nGrönsaker och rotfrukter\nDörrkransar\nHonung\nHemgjord mexikansk salsa\nHandgjorda smycken från Latinamerika\nSilversmycken (endast söndag)\nStickat\nmm.\nHåll utkik på Facebook\n”Lantcafé Verkstan” för information\nVälkomna! \n 
URL:https://visitbolmen.se/event/adventsmys-pa-lantcafe-verkstan/
LOCATION:Lantcafé Verkstan\, Jonsboda Kårabo 1\, Vittaryd\, 34155
END:VEVENT
BEGIN:VEVENT
DTSTART;TZID=Europe/Stockholm:20241117T140000
DTEND;TZID=Europe/Stockholm:20241117T233000
DTSTAMP:20260422T181038
CREATED:20241108T142100Z
LAST-MODIFIED:20241108T142100Z
UID:172-1731852000-1731886200@visitbolmen.se
SUMMARY:Dannäsfilmen i Sjöviken
DESCRIPTION:I maj var det premiär för filmen ”Västbo smörklimp – Dannäs\, bäddat för historia”\, dokumentärfilmen som Studieförbundet Vuxenskolan skapat i\nsamarbete med Dannäs Hembygdsförening. \nNu har vi fått möjlighet att visa den i Bolmsö Bygdegård Sjöviken\, söndagen den 17 november.\nFika från kl 14 och filmen startar kl 14:30\, innan dess kommer\nSaga Alexandersson att berätta om filmen. \nVälkomna önskar Bolmsö Hembygdsförening
URL:https://visitbolmen.se/event/dannasfilmen-i-sjoviken/
LOCATION:Bolmsö Bygdegård Sjöviken\, Kyrkbyvägen\, Bolmsö\, 34193\, Sweden
END:VEVENT
BEGIN:VEVENT
DTSTART;TZID=Europe/Stockholm:20241109T000000
DTEND;TZID=Europe/Stockholm:20241110T235959
DTSTAMP:20260422T181038
CREATED:20241108T143248Z
LAST-MODIFIED:20241108T143248Z
UID:185-1731110400-1731283199@visitbolmen.se
SUMMARY:Mårten Gös
DESCRIPTION:Varmt välkomna att fira den gösrika sjön Bolmen. En härlig 3-rätters gösamiddag står på menyn och ni kan boka med eller utan hotellövernattning och bastu.\n\n\n\nEfter att vår rökta gös kammade hem SM-guldet i hantverk firar vi lite extra i år. Det är dessutom Fars Dag så kom och fira alla pappor\, män & vardagshjältar med en Gösamiddag!\n\n\n\nVälkommen \nFamiljen Ekwall med personal
URL:https://visitbolmen.se/event/marten-gos/
LOCATION:Tiraholms Fisk\, Tiraholm\, Unnaryd\, 31083
END:VEVENT
END:VCALENDAR