BEGIN:VCALENDAR
VERSION:2.0
PRODID:-//Visitbolmen - ECPv6.15.17.1//NONSGML v1.0//EN
CALSCALE:GREGORIAN
METHOD:PUBLISH
X-ORIGINAL-URL:https://visitbolmen.se
X-WR-CALDESC:Händelser för Visitbolmen
REFRESH-INTERVAL;VALUE=DURATION:PT1H
X-Robots-Tag:noindex
X-PUBLISHED-TTL:PT1H
BEGIN:VTIMEZONE
TZID:Europe/Stockholm
BEGIN:DAYLIGHT
TZOFFSETFROM:+0100
TZOFFSETTO:+0200
TZNAME:CEST
DTSTART:20250330T010000
END:DAYLIGHT
BEGIN:STANDARD
TZOFFSETFROM:+0200
TZOFFSETTO:+0100
TZNAME:CET
DTSTART:20251026T010000
END:STANDARD
BEGIN:DAYLIGHT
TZOFFSETFROM:+0100
TZOFFSETTO:+0200
TZNAME:CEST
DTSTART:20260329T010000
END:DAYLIGHT
BEGIN:STANDARD
TZOFFSETFROM:+0200
TZOFFSETTO:+0100
TZNAME:CET
DTSTART:20261025T010000
END:STANDARD
BEGIN:DAYLIGHT
TZOFFSETFROM:+0100
TZOFFSETTO:+0200
TZNAME:CEST
DTSTART:20270328T010000
END:DAYLIGHT
BEGIN:STANDARD
TZOFFSETFROM:+0200
TZOFFSETTO:+0100
TZNAME:CET
DTSTART:20271031T010000
END:STANDARD
END:VTIMEZONE
BEGIN:VEVENT
DTSTART;TZID=Europe/Stockholm:20260725T000000
DTEND;TZID=Europe/Stockholm:20260725T235959
DTSTAMP:20260422T235153
CREATED:20260310T163911Z
LAST-MODIFIED:20260310T163911Z
UID:683-1784937600-1785023999@visitbolmen.se
SUMMARY:Bolmendagen 2026
DESCRIPTION:Som vanligt\, den sista helgen i juli så anordnas den fantastiska Bolmendagen. Denna sidan uppdateras efterhand att evenemangen kommer in.
URL:https://visitbolmen.se/event/bolmendagen-2026/
END:VEVENT
BEGIN:VEVENT
DTSTART;TZID=Europe/Stockholm:20260807T000000
DTEND;TZID=Europe/Stockholm:20260809T235959
DTSTAMP:20260422T235153
CREATED:20260421T164024Z
LAST-MODIFIED:20260421T164024Z
UID:692-1786060800-1786319999@visitbolmen.se
SUMMARY:Bolmenmarschen 2026
DESCRIPTION:För 44:e gången önskar vi Dig välkommen till Ljungby-Bolmen marschen\,som i år äger rum den:7 – 9 Augusti 2026 \n\n1:a Dagsetappen\nGemensam start vid Ljungby Gamla Torg kl. 07.00. Efter att ha passerat utkanten av Ljungby vandrar vi fram på den gamla järnvägsbanken\, passerar fågelsjön Nässjön vidare mot Angelstad\, sedan till Bolmens samhälle. Vidare fortsätter vi på den gamla järnvägen över bron vid Pukesjö till Byholma. Här tar vi färjan över sjön Bolmen. Här går vi fram till Odensjö för övernattning. \n\n2:a Dagsetappen\nFrån Odensjö fortsätter vi norrut efter Bolmens strand förbi flera vackra rastplatser: Önnekvarn\, Sävås\, Träholm (där du även kan köpa rökt fisk m.m.). Möckeln och Skinnarboda för att avsluta dagens etapp med färjan över till Bolmsö. Efter överfarten finns tillfälle till bad intill sjön Bolmens strand\, övernattning på Bolmsö församlingshem. \n\n3:e Dagsetappen\nUnder den sista dagsetappen går färden över Bolmsö\, som är den största av Bolmens öar och sedan vidare via färja till Tannåker. Förbi Höshult\, och på små stigar tar vi oss fram till Mjälen bastplats\, därefter genom vacker skogstrakt förbi Bolmsåns hamn och vidare över Älgamossen och åter förbi Nässjön. Efter dessa tre dagsetapper är vi vid målet på Gamla Torg i Ljungby. \n\nTräning\nDet förväntas att Du som deltar har de nödvändigaste träningskunskaperna i benen. Löpning och övningar\, egen träning\, egen tävling. Deltagande sker på egen risk. Trafikregler skall iakttas. \n\nMat & dryck (ingår i startavgiften)\nSom frukost på rastplatserna erbjuds smörgåsar\, frukt m.m. till vilka du kan dricka kaffe\, choklad eller te. På fredag och söndag serveras det varm mat till lunch\, på lördag serveras det kall lunch. Vidare finns även fruktdrycker. Anteckna på din anmälan om du är vegetarian eller diabetiker. Mat erbjuds på kvällar i sovlokalerna.Anmälan och betalning för förtäring sker på morgonen samma dag. \n\nDiplom\nSamtliga som genomför samtliga dagsetapper erhåller diplom. \n\nStartavgift\nFör medlem i föreningen 550:-. För övriga över 15 år 800:-\, alternativt 400:- per dagsetapp. Deltagare under 15 år 300:-. Insättes beloppet på bankgiro 824-1473\, senast 10 dagar före start. Avgiften återbetalas icke vid frånvaro vid starten. Vid efteranmälan tillkommer 300:- per start. Om du av någon anledning bryter ditt äventyr marschen skall du omgående meddela detta till någon av våra funktionärer. \n\nVid anmälan vänligen uppge:\nnamn\, adress\, födelsenummer\, mejl samt om du önskar inkvartering. \n\nInkvartering\nDu som önskar inkvartering ordnas detta på ett enkelt sätt. Sovsäck\, luftmadrass eller liknande medtages till startplatsen. Ditt bagage finns att tillgå vid alla etappernas slutstationer. Transport av bagage sker direkt till etappernas slutstationer. Övernattning sker i sovlokaler\, enklare boende såsom gymnastiksalar\, församlingshem och liknande. För egen bekvämlighet medtages liggunderlag\, sovsäck\, regnkläder\, extra kläder och ficklampa. För den som önskar inkvartering ingår återtransport till Ljungby i startavgiften. \n\nÖvrigt\nVarje dagsetapp innefattar tre längre pauser (frukost\, lunch samt eftermiddagsfika). Efter dessa pauser sker gemensam avfärd vid given signal. Vid övriga stopp är det fritt att fortsätta vandringen när man vill.
URL:https://visitbolmen.se/event/bolmenmarschen-2026/
END:VEVENT
END:VCALENDAR