BEGIN:VCALENDAR
VERSION:2.0
PRODID:-//Visitbolmen - ECPv6.15.17.1//NONSGML v1.0//EN
CALSCALE:GREGORIAN
METHOD:PUBLISH
X-WR-CALNAME:Visitbolmen
X-ORIGINAL-URL:https://visitbolmen.se
X-WR-CALDESC:Händelser för Visitbolmen
REFRESH-INTERVAL;VALUE=DURATION:PT1H
X-Robots-Tag:noindex
X-PUBLISHED-TTL:PT1H
BEGIN:VTIMEZONE
TZID:Europe/Stockholm
BEGIN:DAYLIGHT
TZOFFSETFROM:+0100
TZOFFSETTO:+0200
TZNAME:CEST
DTSTART:20240331T010000
END:DAYLIGHT
BEGIN:STANDARD
TZOFFSETFROM:+0200
TZOFFSETTO:+0100
TZNAME:CET
DTSTART:20241027T010000
END:STANDARD
BEGIN:DAYLIGHT
TZOFFSETFROM:+0100
TZOFFSETTO:+0200
TZNAME:CEST
DTSTART:20250330T010000
END:DAYLIGHT
BEGIN:STANDARD
TZOFFSETFROM:+0200
TZOFFSETTO:+0100
TZNAME:CET
DTSTART:20251026T010000
END:STANDARD
BEGIN:DAYLIGHT
TZOFFSETFROM:+0100
TZOFFSETTO:+0200
TZNAME:CEST
DTSTART:20260329T010000
END:DAYLIGHT
BEGIN:STANDARD
TZOFFSETFROM:+0200
TZOFFSETTO:+0100
TZNAME:CET
DTSTART:20261025T010000
END:STANDARD
END:VTIMEZONE
BEGIN:VEVENT
DTSTART;TZID=Europe/Stockholm:20251016T080000
DTEND;TZID=Europe/Stockholm:20251019T170000
DTSTAMP:20260422T123114
CREATED:20250908T154150Z
LAST-MODIFIED:20250908T154150Z
UID:635-1760601600-1760893200@visitbolmen.se
SUMMARY:Vandringsutställningen ELDSJÄLAR
DESCRIPTION:Kommer till Bolmsö Bygdegård Sjöviken den16–19 oktober 2025 \nUtställning ELDSJÄLAR – om ideellt engagemang och föreningsliv vill vi berätta om vad som händer i föreningar över hela landet genom de eldsjälar som går i täten för det ideella engagemanget. Här får vi höra rösterna från några av de många eldsjälar som är en viktig del av bygdegårdsrörelsen\, det ideella föreningslivet och hela samhällets utveckling. \nPå lördagen den 18 oktober blir det en familjedag med fest på kvällen för att uppmärksamma att det är 65 år sedan Bolmsö Bygdegård Sjöviken invigdes. \nBolmsö Bygdegårdsförening
URL:https://visitbolmen.se/event/vandringsutstallningen-eldsjalar/
LOCATION:Bolmsö Bygdegård Sjöviken\, Kyrkbyvägen\, Bolmsö\, 34193\, Sweden
ORGANIZER;CN="Bygdeg%C3%A5rden Sj%C3%B6viken":MAILTO:bygdegarden@bolmso.se
END:VEVENT
BEGIN:VEVENT
DTSTART;TZID=Europe/Stockholm:20251018T000000
DTEND;TZID=Europe/Stockholm:20251018T235959
DTSTAMP:20260422T123114
CREATED:20250908T154007Z
LAST-MODIFIED:20250908T154007Z
UID:633-1760745600-1760831999@visitbolmen.se
SUMMARY:65-årsfirande
DESCRIPTION:Den 18 oktober firar vi att Bolmsö bygdegård blivit 65 år!Det blir berättelser och bildspel om hur bygdegården blivit som den är\,och vi äter middag och dricker gott till den. \nEfter middagen: fria aktiviteter\, öppen pub och visning av bygdegården. \nVill du vara med och fira kan du köpa biljetter på:👉 www.biljettkiosken.se/sjoviken65 \nPriser: \n\n\nVuxna: 210 kr \n\n\nBarn 4–12 år: 20 kr(exkl. dryck\, inkl. serviceavgift) \n\n\nOBS! Antalet är begränsat till 120.Sista anmälan: 12 oktober. \nVälkomna!Bolmsö Bygdegårdsförening
URL:https://visitbolmen.se/event/65-arsfirande/
LOCATION:Bolmsö Bygdegård Sjöviken\, Kyrkbyvägen\, Bolmsö\, 34193\, Sweden
ORGANIZER;CN="Bygdeg%C3%A5rden Sj%C3%B6viken":MAILTO:bygdegarden@bolmso.se
END:VEVENT
END:VCALENDAR