BEGIN:VCALENDAR
VERSION:2.0
PRODID:-//Visitbolmen - ECPv6.15.17.1//NONSGML v1.0//EN
CALSCALE:GREGORIAN
METHOD:PUBLISH
X-ORIGINAL-URL:https://visitbolmen.se
X-WR-CALDESC:Händelser för Visitbolmen
REFRESH-INTERVAL;VALUE=DURATION:PT1H
X-Robots-Tag:noindex
X-PUBLISHED-TTL:PT1H
BEGIN:VTIMEZONE
TZID:Europe/Stockholm
BEGIN:DAYLIGHT
TZOFFSETFROM:+0100
TZOFFSETTO:+0200
TZNAME:CEST
DTSTART:20240331T010000
END:DAYLIGHT
BEGIN:STANDARD
TZOFFSETFROM:+0200
TZOFFSETTO:+0100
TZNAME:CET
DTSTART:20241027T010000
END:STANDARD
BEGIN:DAYLIGHT
TZOFFSETFROM:+0100
TZOFFSETTO:+0200
TZNAME:CEST
DTSTART:20250330T010000
END:DAYLIGHT
BEGIN:STANDARD
TZOFFSETFROM:+0200
TZOFFSETTO:+0100
TZNAME:CET
DTSTART:20251026T010000
END:STANDARD
BEGIN:DAYLIGHT
TZOFFSETFROM:+0100
TZOFFSETTO:+0200
TZNAME:CEST
DTSTART:20260329T010000
END:DAYLIGHT
BEGIN:STANDARD
TZOFFSETFROM:+0200
TZOFFSETTO:+0100
TZNAME:CET
DTSTART:20261025T010000
END:STANDARD
END:VTIMEZONE
BEGIN:VEVENT
DTSTART;TZID=Europe/Stockholm:20250720T170000
DTEND;TZID=Europe/Stockholm:20250720T180000
DTSTAMP:20260422T185738
CREATED:20250520T162017Z
LAST-MODIFIED:20250520T162017Z
UID:531-1753030800-1753034400@visitbolmen.se
SUMMARY:Kärlek\, bröllop och livet i stort och smått
DESCRIPTION:Berättarna Maria Haneskog och Agneta Json Granemalm tar er med i ljuvlig kärlek\, underbara och besvärliga bröllop\, samt mycket annat som hör livet till\, från början till slut.\nVåffelserveringen är öppen mellan kl 14-17 i Odensjös vackra hembygdspark. \nBerättare: Maria Haneskog och Agneta Json Granemalm\nI samverkan: Sagobygden & Odensjö Hembygdsförening \nEn del av Sommar i Sagobygden: https://sagobygden.se/sv/evenemang/Länk till annan webbplats. \nSagobygden med stöd av kommunerna Alvesta\, Älmhult och Ljungby\, Region Kronoberg samt ABF \n  \n 
URL:https://visitbolmen.se/event/karlek-brollop-och-livet-i-stort-och-smatt/
LOCATION:Odensjö Hembygdspark
END:VEVENT
END:VCALENDAR