BEGIN:VCALENDAR
VERSION:2.0
PRODID:-//Visitbolmen - ECPv6.15.17.1//NONSGML v1.0//EN
CALSCALE:GREGORIAN
METHOD:PUBLISH
X-ORIGINAL-URL:https://visitbolmen.se
X-WR-CALDESC:Händelser för Visitbolmen
REFRESH-INTERVAL;VALUE=DURATION:PT1H
X-Robots-Tag:noindex
X-PUBLISHED-TTL:PT1H
BEGIN:VTIMEZONE
TZID:Europe/Stockholm
BEGIN:DAYLIGHT
TZOFFSETFROM:+0100
TZOFFSETTO:+0200
TZNAME:CEST
DTSTART:20240331T010000
END:DAYLIGHT
BEGIN:STANDARD
TZOFFSETFROM:+0200
TZOFFSETTO:+0100
TZNAME:CET
DTSTART:20241027T010000
END:STANDARD
BEGIN:DAYLIGHT
TZOFFSETFROM:+0100
TZOFFSETTO:+0200
TZNAME:CEST
DTSTART:20250330T010000
END:DAYLIGHT
BEGIN:STANDARD
TZOFFSETFROM:+0200
TZOFFSETTO:+0100
TZNAME:CET
DTSTART:20251026T010000
END:STANDARD
BEGIN:DAYLIGHT
TZOFFSETFROM:+0100
TZOFFSETTO:+0200
TZNAME:CEST
DTSTART:20260329T010000
END:DAYLIGHT
BEGIN:STANDARD
TZOFFSETFROM:+0200
TZOFFSETTO:+0100
TZNAME:CET
DTSTART:20261025T010000
END:STANDARD
END:VTIMEZONE
BEGIN:VEVENT
DTSTART;TZID=Europe/Stockholm:20250716T150000
DTEND;TZID=Europe/Stockholm:20250716T153000
DTSTAMP:20260422T185709
CREATED:20250520T161823Z
LAST-MODIFIED:20250520T161823Z
UID:528-1752678000-1752679800@visitbolmen.se
SUMMARY:Scensommar: Radio Trattofon
DESCRIPTION:Cirkus Trattofon rattar in en halsbrytande humorföreställning på sin tecknade radio\, men radion själv är inte med på noterna. \nEtt enkelt shownummer urartar i tekniskt haveri\, kanal efter kanal ställs in med oväntade vändningar\, dans\, akrobatik\, ljudeffekter och tecknad rekvisita. Rek 3-11 år. \nArrangör: Växjö kommun i samarbete med Ljungby kommun \n 
URL:https://visitbolmen.se/event/scensommar-radio-trattofon/
LOCATION:Hembygdsparken Lidhult\, Sweden
END:VEVENT
BEGIN:VEVENT
DTSTART;TZID=Europe/Stockholm:20250716T180000
DTEND;TZID=Europe/Stockholm:20250716T233000
DTSTAMP:20260422T185709
CREATED:20250528T171746Z
LAST-MODIFIED:20250528T171746Z
UID:568-1752688800-1752708600@visitbolmen.se
SUMMARY:Magnus Lang på scen - Sommaren på Båtbaren
DESCRIPTION:
URL:https://visitbolmen.se/event/magnus-lang-pa-scen-sommaren-pa-batbaren/
LOCATION:Båtbaren i Tannåker\, Tallbo 2\, Ljungby\, 34139\, Sweden
ORGANIZER;CN="B%C3%A5tbaren i Tann%C3%A5ker":MAILTO:batbarenitannaker@gmail.com
END:VEVENT
END:VCALENDAR