BEGIN:VCALENDAR
VERSION:2.0
PRODID:-//Visitbolmen - ECPv6.15.17.1//NONSGML v1.0//EN
CALSCALE:GREGORIAN
METHOD:PUBLISH
X-ORIGINAL-URL:https://visitbolmen.se
X-WR-CALDESC:Händelser för Visitbolmen
REFRESH-INTERVAL;VALUE=DURATION:PT1H
X-Robots-Tag:noindex
X-PUBLISHED-TTL:PT1H
BEGIN:VTIMEZONE
TZID:Europe/Stockholm
BEGIN:DAYLIGHT
TZOFFSETFROM:+0100
TZOFFSETTO:+0200
TZNAME:CEST
DTSTART:20240331T010000
END:DAYLIGHT
BEGIN:STANDARD
TZOFFSETFROM:+0200
TZOFFSETTO:+0100
TZNAME:CET
DTSTART:20241027T010000
END:STANDARD
BEGIN:DAYLIGHT
TZOFFSETFROM:+0100
TZOFFSETTO:+0200
TZNAME:CEST
DTSTART:20250330T010000
END:DAYLIGHT
BEGIN:STANDARD
TZOFFSETFROM:+0200
TZOFFSETTO:+0100
TZNAME:CET
DTSTART:20251026T010000
END:STANDARD
BEGIN:DAYLIGHT
TZOFFSETFROM:+0100
TZOFFSETTO:+0200
TZNAME:CEST
DTSTART:20260329T010000
END:DAYLIGHT
BEGIN:STANDARD
TZOFFSETFROM:+0200
TZOFFSETTO:+0100
TZNAME:CET
DTSTART:20261025T010000
END:STANDARD
END:VTIMEZONE
BEGIN:VEVENT
DTSTART;TZID=Europe/Stockholm:20250620T000000
DTEND;TZID=Europe/Stockholm:20250620T235959
DTSTAMP:20260422T201358
CREATED:20250525T163401Z
LAST-MODIFIED:20250613T182632Z
UID:540-1750377600-1750463999@visitbolmen.se
SUMMARY:Midsommar runt Bolmen
DESCRIPTION:Den 20 juni är det äntligen dags att fira in sommaren på riktigt!\nDet finns många platser att besöka runt sjön som håller i traditionsenliga midsommarfiranden. \n  \nDu kan bland annat besöka: \nAngelstads Hembygdspark \n\nKlockan 14:00-17:00\nFiras i Angelstads natursköna hembygdspark med dans kring stången. Truba-duon Berth och Jonas spelar till dansen samt vidare från scenen. Skjutbana\, tombola\, chokladhjul\, bollkastning & servering erbjuds samt gratis glass till dansande barn.\nPris: 30kr för alla över 16 år\n\nTannåkers Hembygdspark \n\nKlockan 15:00\nDans med lekar! Olle Josefsson spelar och lekledare finns på plats.\n\nBolmsö Hembygdspark \n\nKlockan 16.00 skall allt vara klart och vi börjar festligheterna med att Bolmenbygdens\nKulturförening under ledning av Mats Öberg ger oss ljuva toner och vacker\nsång från scenen.\nCa kl 16.45 är det dags att förbereda ringdanserna och till detta hör som vanligt\natt vi har spelmän som sköter musiken och en duktig kör som sjunger sångerna\ntill danserna samt ett gäng duktiga dansare som leder oss igenom de kluriga\nmidsommardanserna. Efter det blir det mer sång och musik från scenen.\nHa gärna med er kontanter\, ni kan inte betala med kort men vi har swish-tält där\nni kan växla till er lokalmynt som går att använda i parken.\n\nLokstallet Bolmen \n\nKlockan 15:00\nTraditionellt midsommarfirande med tombola\, chokladhjul och servering.\nKrister Kinhult spelar och sjunger.\nDans kring stången klockan 15:30.\n\nHembygdsparken Slättahult\, Ås \n\nKlockan 14:00\nTraditionellt midsommarfirande med dans\, pilkastning och lotterier.\nTa med egen kaffekorg\n\n  \nListan uppdateras med fler platser när evenemangen släpps! \n  \n 
URL:https://visitbolmen.se/event/midsommar-runt-bolmen/
END:VEVENT
END:VCALENDAR