BEGIN:VCALENDAR
VERSION:2.0
PRODID:-//Visitbolmen - ECPv6.15.17.1//NONSGML v1.0//EN
CALSCALE:GREGORIAN
METHOD:PUBLISH
X-ORIGINAL-URL:https://visitbolmen.se
X-WR-CALDESC:Händelser för Visitbolmen
REFRESH-INTERVAL;VALUE=DURATION:PT1H
X-Robots-Tag:noindex
X-PUBLISHED-TTL:PT1H
BEGIN:VTIMEZONE
TZID:Europe/Stockholm
BEGIN:DAYLIGHT
TZOFFSETFROM:+0100
TZOFFSETTO:+0200
TZNAME:CEST
DTSTART:20240331T010000
END:DAYLIGHT
BEGIN:STANDARD
TZOFFSETFROM:+0200
TZOFFSETTO:+0100
TZNAME:CET
DTSTART:20241027T010000
END:STANDARD
BEGIN:DAYLIGHT
TZOFFSETFROM:+0100
TZOFFSETTO:+0200
TZNAME:CEST
DTSTART:20250330T010000
END:DAYLIGHT
BEGIN:STANDARD
TZOFFSETFROM:+0200
TZOFFSETTO:+0100
TZNAME:CET
DTSTART:20251026T010000
END:STANDARD
BEGIN:DAYLIGHT
TZOFFSETFROM:+0100
TZOFFSETTO:+0200
TZNAME:CEST
DTSTART:20260329T010000
END:DAYLIGHT
BEGIN:STANDARD
TZOFFSETFROM:+0200
TZOFFSETTO:+0100
TZNAME:CET
DTSTART:20261025T010000
END:STANDARD
END:VTIMEZONE
BEGIN:VEVENT
DTSTART;TZID=Europe/Stockholm:20250606T000000
DTEND;TZID=Europe/Stockholm:20250606T235959
DTSTAMP:20260422T201328
CREATED:20250527T081052Z
LAST-MODIFIED:20250527T081052Z
UID:542-1749168000-1749254399@visitbolmen.se
SUMMARY:Fira på Tira - Vattendag
DESCRIPTION:Fira nationaldagen på Tiraholms fisk! En dag fylld av aktiviteter. \n  \nKl. 12–16: \nÖppet hus på Forskningsstation Bolmen \nTräffa räddningstjänsten och polisen \nBesök av sjöräddningen \nBåtturer med M/S TIRA på sjön Bolmen \n  \n  \nFiskrestaurang och glasscafé: öppet kl. 12–20 \nGårdsbutik: öppen kl. 10–18 \n  \n \n  \n  \n  \n 
URL:https://visitbolmen.se/event/fira-pa-tira-vattendag/
LOCATION:Tiraholms Fisk\, Tiraholm\, Unnaryd\, 31083
ORGANIZER;CN="Tiraholms Fisk":MAILTO:fisk@tiraholm.se
END:VEVENT
BEGIN:VEVENT
DTSTART;TZID=Europe/Stockholm:20250606T140000
DTEND;TZID=Europe/Stockholm:20250606T160000
DTSTAMP:20260422T201328
CREATED:20250520T161519Z
LAST-MODIFIED:20250520T161519Z
UID:524-1749218400-1749225600@visitbolmen.se
SUMMARY:Nationaldagsfirande i Annerstad
DESCRIPTION:Nationaldagen firas på hembygdsgården Annerstad 6/6 kl 14.oo. Med stöd av Ljungby kommun.\nUnderhållning av fam Markus Leijon från Älmhult.\nKaffeservering med 7 sorters kakor och Jordgubbstårta. \n 
URL:https://visitbolmen.se/event/nationaldagsfirande-i-annerstad/
LOCATION:Hembygdsparken Annerstad\, Prästgården\, Annerstad\, 34012
END:VEVENT
BEGIN:VEVENT
DTSTART;TZID=Europe/Stockholm:20250606T180000
DTEND;TZID=Europe/Stockholm:20250606T233000
DTSTAMP:20260422T201328
CREATED:20250528T170553Z
LAST-MODIFIED:20250528T170737Z
UID:548-1749232800-1749252600@visitbolmen.se
SUMMARY:Jazzbandet Tonfall - Sommaren på Båtbaren
DESCRIPTION:
URL:https://visitbolmen.se/event/jazzbandet-tonfall-sommaren-pa-batbaren/
LOCATION:Båtbaren i Tannåker\, Tallbo 2\, Ljungby\, 34139\, Sweden
ORGANIZER;CN="B%C3%A5tbaren i Tann%C3%A5ker":MAILTO:batbarenitannaker@gmail.com
END:VEVENT
END:VCALENDAR