BEGIN:VCALENDAR
VERSION:2.0
PRODID:-//Visitbolmen - ECPv6.15.17.1//NONSGML v1.0//EN
CALSCALE:GREGORIAN
METHOD:PUBLISH
X-ORIGINAL-URL:https://visitbolmen.se
X-WR-CALDESC:Händelser för Visitbolmen
REFRESH-INTERVAL;VALUE=DURATION:PT1H
X-Robots-Tag:noindex
X-PUBLISHED-TTL:PT1H
BEGIN:VTIMEZONE
TZID:Europe/Stockholm
BEGIN:DAYLIGHT
TZOFFSETFROM:+0100
TZOFFSETTO:+0200
TZNAME:CEST
DTSTART:20240331T010000
END:DAYLIGHT
BEGIN:STANDARD
TZOFFSETFROM:+0200
TZOFFSETTO:+0100
TZNAME:CET
DTSTART:20241027T010000
END:STANDARD
BEGIN:DAYLIGHT
TZOFFSETFROM:+0100
TZOFFSETTO:+0200
TZNAME:CEST
DTSTART:20250330T010000
END:DAYLIGHT
BEGIN:STANDARD
TZOFFSETFROM:+0200
TZOFFSETTO:+0100
TZNAME:CET
DTSTART:20251026T010000
END:STANDARD
BEGIN:DAYLIGHT
TZOFFSETFROM:+0100
TZOFFSETTO:+0200
TZNAME:CEST
DTSTART:20260329T010000
END:DAYLIGHT
BEGIN:STANDARD
TZOFFSETFROM:+0200
TZOFFSETTO:+0100
TZNAME:CET
DTSTART:20261025T010000
END:STANDARD
END:VTIMEZONE
BEGIN:VEVENT
DTSTART;TZID=Europe/Stockholm:20250531T100000
DTEND;TZID=Europe/Stockholm:20250531T150000
DTSTAMP:20260422T201828
CREATED:20250520T161049Z
LAST-MODIFIED:20250520T161049Z
UID:517-1748685600-1748703600@visitbolmen.se
SUMMARY:Prova på segling
DESCRIPTION:Segelsällskapet Angantyr bjuder in till prova-på-segling i Bolmstad hamn.\nDu seglar tillsammans med en instruktör och behöver inte ha erfarenhet av segling sedan tidigare. \nFlytväst finns att låna. Alla är välkomna och seglingen är gratis!\nDet bjuds på korv med bröd och kaffe. \n 
URL:https://visitbolmen.se/event/prova-pa-segling/
LOCATION:Bolmstad Hamn\, von Schönbergs allé\, Ljungby\, 34196
END:VEVENT
END:VCALENDAR